BEGIN:VCALENDAR

VERSION:2.0

PRODID:-//hacksw/handcal//NONSGML v1.0//EN

BEGIN:VEVENT

UID:c5cfaba7f13b65ba4de5c7914b68a959

DTSTAMP:20260424T131512Z

DTSTART:20260602T000000

DTEND:20260602T000000

SUMMARY:R2-5067293 - 100 Queens Road, New Lambton NSW 2305

LOCATION:100 Queens Road, New Lambton NSW 2305

END:VEVENT

END:VCALENDAR