BEGIN:VCALENDAR

VERSION:2.0

PRODID:-//hacksw/handcal//NONSGML v1.0//EN

BEGIN:VEVENT

UID:0baa41957af931253eaed4fc08c69021

DTSTAMP:20260420T083420Z

DTSTART:20260512T000000

DTEND:20260512T000000

SUMMARY:R2-4943949 - 49 Portland Place, New Lambton NSW 2305

LOCATION:49 Portland Place, New Lambton NSW 2305

END:VEVENT

END:VCALENDAR