BEGIN:VCALENDAR

VERSION:2.0

PRODID:-//hacksw/handcal//NONSGML v1.0//EN

BEGIN:VEVENT

UID:372d4346c8e8ce5df534be6b1a427457

DTSTAMP:20260422T133514Z

DTSTART:20260428T171500

DTEND:20260428T174500

SUMMARY:R2-5074294 - 35 Sun Hill Drive, Merewether Heights NSW 2291

LOCATION:35 Sun Hill Drive, Merewether Heights NSW 2291

END:VEVENT

END:VCALENDAR