BEGIN:VCALENDAR

VERSION:2.0

PRODID:-//hacksw/handcal//NONSGML v1.0//EN

BEGIN:VEVENT

UID:19c969fbad8b8733f9992b0c71038345

DTSTAMP:20260420T091739Z

DTSTART:20260418T120000

DTEND:20260418T123000

SUMMARY:R2-4943949 - 49 Portland Place, New Lambton NSW 2305

LOCATION:49 Portland Place, New Lambton NSW 2305

END:VEVENT

END:VCALENDAR