BEGIN:VCALENDAR

VERSION:2.0

PRODID:-//hacksw/handcal//NONSGML v1.0//EN

BEGIN:VEVENT

UID:9af0f56ddf698e5cd3344c2efae52599

DTSTAMP:20260421T083449Z

DTSTART:20230722T000000

DTEND:20230722T000000

SUMMARY:R2-3665573 - 9 Armitage Street, The Hill NSW 2300

LOCATION:9 Armitage Street, The Hill NSW 2300

END:VEVENT

END:VCALENDAR